BEGIN:VCALENDAR
VERSION:2.0
PRODID:-//Jackson NH - ECPv6.15.20//NONSGML v1.0//EN
CALSCALE:GREGORIAN
METHOD:PUBLISH
X-ORIGINAL-URL:https://jacksonnh.com
X-WR-CALDESC:Events for Jackson NH
REFRESH-INTERVAL;VALUE=DURATION:PT1H
X-Robots-Tag:noindex
X-PUBLISHED-TTL:PT1H
BEGIN:VTIMEZONE
TZID:America/New_York
BEGIN:DAYLIGHT
TZOFFSETFROM:-0500
TZOFFSETTO:-0400
TZNAME:EDT
DTSTART:20250309T070000
END:DAYLIGHT
BEGIN:STANDARD
TZOFFSETFROM:-0400
TZOFFSETTO:-0500
TZNAME:EST
DTSTART:20251102T060000
END:STANDARD
BEGIN:DAYLIGHT
TZOFFSETFROM:-0500
TZOFFSETTO:-0400
TZNAME:EDT
DTSTART:20260308T070000
END:DAYLIGHT
BEGIN:STANDARD
TZOFFSETFROM:-0400
TZOFFSETTO:-0500
TZNAME:EST
DTSTART:20261101T060000
END:STANDARD
BEGIN:DAYLIGHT
TZOFFSETFROM:-0500
TZOFFSETTO:-0400
TZNAME:EDT
DTSTART:20270314T070000
END:DAYLIGHT
BEGIN:STANDARD
TZOFFSETFROM:-0400
TZOFFSETTO:-0500
TZNAME:EST
DTSTART:20271107T060000
END:STANDARD
END:VTIMEZONE
BEGIN:VEVENT
DTSTART;TZID=America/New_York:20261205T110000
DTEND;TZID=America/New_York:20261205T160000
DTSTAMP:20260423T020347
CREATED:20260219T210334Z
LAST-MODIFIED:20260219T210334Z
UID:7951-1796468400-1796486400@jacksonnh.com
SUMMARY:Jingle Bell Chocolate Tour
DESCRIPTION:Welcome to the 24th annual Jingle Bell Chocolate Tour!  We are thrilled to celebrate another year of chocolatey deliciousness combined with an Austrian Horse-drawn sleigh ride through the magical winter wonderland of Nestlenook Farm. \nPlease check in on the second floor of the Nestlenook Farm Ticket & Rental Center.  Our goal is to make your first impression feel like stepping into the beginning of an enchanted Christmas Story.  Upon arrival\, you will receive your Jingle Bell and festive bag to hold any chocolates you choose to save for later. \nYou will have your choice of hot chocolate or hot apple cider\, along with a special chocolate treat from the Chamber.  From there\, you will visit each business-sponsored table to collect a variety of homemade confections.  We expect to have at least seven sponsored tables\, each offering a unique chocolate treat. \nDon’t get left out this year… pick up the phone and make your reservations with the Wentworth\, the Snowflake Inn\, the Eagle Mountain House & Golf Club\, the Christmas Farm Inn Spa\, the Inn at Thorn Hill & Spa\, the Inn at Jackson and check back for more.  Don’t forget to frequent our other chocolate sponsors from the Nestlenook Farm and J-Town Deli & Country Store. \nParties of 8 or more can call the chamber at 978-580-0905 and book any time. \nChildren 3 or under sitting on lap – not receiving Bell/Bag or Chocolates are FREE
URL:https://jacksonnh.com/event/jingle-bell-chocolate-tour-27/
LOCATION:Nestlenook Farm\, NH\, United States
ORGANIZER;CN="Jackson Area Chamber of Commerce":MAILTO:kathleen@jacksonnh.com
END:VEVENT
BEGIN:VEVENT
DTSTART;TZID=America/New_York:20261206T110000
DTEND;TZID=America/New_York:20261206T160000
DTSTAMP:20260423T020347
CREATED:20260219T210456Z
LAST-MODIFIED:20260219T210456Z
UID:7953-1796554800-1796572800@jacksonnh.com
SUMMARY:Jingle Bell Chocolate Tour
DESCRIPTION:Welcome to the 24th annual Jingle Bell Chocolate Tour!  We are thrilled to celebrate another year of chocolatey deliciousness combined with an Austrian Horse-drawn sleigh ride through the magical winter wonderland of Nestlenook Farm. \nPlease check in on the second floor of the Nestlenook Farm Ticket & Rental Center.  Our goal is to make your first impression feel like stepping into the beginning of an enchanted Christmas Story.  Upon arrival\, you will receive your Jingle Bell and festive bag to hold any chocolates you choose to save for later. \nYou will have your choice of hot chocolate or hot apple cider\, along with a special chocolate treat from the Chamber.  From there\, you will visit each business-sponsored table to collect a variety of homemade confections.  We expect to have at least seven sponsored tables\, each offering a unique chocolate treat. \nDon’t get left out this year… pick up the phone and make your reservations with the Wentworth\, the Snowflake Inn\, the Eagle Mountain House & Golf Club\, the Christmas Farm Inn Spa\, the Inn at Thorn Hill & Spa\, the Inn at Jackson and check back for more.  Don’t forget to frequent our other chocolate sponsors from the Nestlenook Farm and J-Town Deli & Country Store. \nParties of 8 or more can call the chamber at 978-580-0905 and book any time. \nChildren 3 or under sitting on lap – not receiving Bell/Bag or Chocolates are FREE
URL:https://jacksonnh.com/event/jingle-bell-chocolate-tour-28/
LOCATION:Nestlenook Farm\, NH\, United States
ORGANIZER;CN="Jackson Area Chamber of Commerce":MAILTO:kathleen@jacksonnh.com
END:VEVENT
BEGIN:VEVENT
DTSTART;TZID=America/New_York:20261212T110000
DTEND;TZID=America/New_York:20261212T160000
DTSTAMP:20260423T020347
CREATED:20260219T210646Z
LAST-MODIFIED:20260219T210646Z
UID:7955-1797073200-1797091200@jacksonnh.com
SUMMARY:Jingle Bell Chocolate Tour
DESCRIPTION:Welcome to the 24th annual Jingle Bell Chocolate Tour!  We are thrilled to celebrate another year of chocolatey deliciousness combined with an Austrian Horse-drawn sleigh ride through the magical winter wonderland of Nestlenook Farm. \nPlease check in on the second floor of the Nestlenook Farm Ticket & Rental Center.  Our goal is to make your first impression feel like stepping into the beginning of an enchanted Christmas Story.  Upon arrival\, you will receive your Jingle Bell and festive bag to hold any chocolates you choose to save for later. \nYou will have your choice of hot chocolate or hot apple cider\, along with a special chocolate treat from the Chamber.  From there\, you will visit each business-sponsored table to collect a variety of homemade confections.  We expect to have at least seven sponsored tables\, each offering a unique chocolate treat. \nDon’t get left out this year… pick up the phone and make your reservations with the Wentworth\, the Snowflake Inn\, the Eagle Mountain House & Golf Club\, the Christmas Farm Inn Spa\, the Inn at Thorn Hill & Spa\, the Inn at Jackson and check back for more.  Don’t forget to frequent our other chocolate sponsors from the Nestlenook Farm and J-Town Deli & Country Store. \nParties of 8 or more can call the chamber at 978-580-0905 and book any time. \nChildren 3 or under sitting on lap – not receiving Bell/Bag or Chocolates are FREE
URL:https://jacksonnh.com/event/jingle-bell-chocolate-tour-29/
LOCATION:Nestlenook Farm\, NH\, United States
ORGANIZER;CN="Jackson Area Chamber of Commerce":MAILTO:kathleen@jacksonnh.com
END:VEVENT
BEGIN:VEVENT
DTSTART;TZID=America/New_York:20261213T110000
DTEND;TZID=America/New_York:20261213T160000
DTSTAMP:20260423T020347
CREATED:20260219T210805Z
LAST-MODIFIED:20260219T210805Z
UID:7957-1797159600-1797177600@jacksonnh.com
SUMMARY:Jingle Bell Chocolate Tour
DESCRIPTION:Welcome to the 24th annual Jingle Bell Chocolate Tour!  We are thrilled to celebrate another year of chocolatey deliciousness combined with an Austrian Horse-drawn sleigh ride through the magical winter wonderland of Nestlenook Farm. \nPlease check in on the second floor of the Nestlenook Farm Ticket & Rental Center.  Our goal is to make your first impression feel like stepping into the beginning of an enchanted Christmas Story.  Upon arrival\, you will receive your Jingle Bell and festive bag to hold any chocolates you choose to save for later. \nYou will have your choice of hot chocolate or hot apple cider\, along with a special chocolate treat from the Chamber.  From there\, you will visit each business-sponsored table to collect a variety of homemade confections.  We expect to have at least seven sponsored tables\, each offering a unique chocolate treat. \nDon’t get left out this year… pick up the phone and make your reservations with the Wentworth\, the Snowflake Inn\, the Eagle Mountain House & Golf Club\, the Christmas Farm Inn Spa\, the Inn at Thorn Hill & Spa\, the Inn at Jackson and check back for more.  Don’t forget to frequent our other chocolate sponsors from the Nestlenook Farm and J-Town Deli & Country Store. \nParties of 8 or more can call the chamber at 978-580-0905 and book any time. \nChildren 3 or under sitting on lap – not receiving Bell/Bag or Chocolates are FREE
URL:https://jacksonnh.com/event/jingle-bell-chocolate-tour-30/
LOCATION:Nestlenook Farm\, NH\, United States
ORGANIZER;CN="Jackson Area Chamber of Commerce":MAILTO:kathleen@jacksonnh.com
END:VEVENT
BEGIN:VEVENT
DTSTART;TZID=America/New_York:20261219T110000
DTEND;TZID=America/New_York:20261219T160000
DTSTAMP:20260423T020347
CREATED:20260219T210931Z
LAST-MODIFIED:20260219T210931Z
UID:7959-1797678000-1797696000@jacksonnh.com
SUMMARY:Jingle Bell Chocolate Tour
DESCRIPTION:Welcome to the 24th annual Jingle Bell Chocolate Tour!  We are thrilled to celebrate another year of chocolatey deliciousness combined with an Austrian Horse-drawn sleigh ride through the magical winter wonderland of Nestlenook Farm. \nPlease check in on the second floor of the Nestlenook Farm Ticket & Rental Center.  Our goal is to make your first impression feel like stepping into the beginning of an enchanted Christmas Story.  Upon arrival\, you will receive your Jingle Bell and festive bag to hold any chocolates you choose to save for later. \nYou will have your choice of hot chocolate or hot apple cider\, along with a special chocolate treat from the Chamber.  From there\, you will visit each business-sponsored table to collect a variety of homemade confections.  We expect to have at least seven sponsored tables\, each offering a unique chocolate treat. \nDon’t get left out this year… pick up the phone and make your reservations with the Wentworth\, the Snowflake Inn\, the Eagle Mountain House & Golf Club\, the Christmas Farm Inn Spa\, the Inn at Thorn Hill & Spa\, the Inn at Jackson and check back for more.  Don’t forget to frequent our other chocolate sponsors from the Nestlenook Farm and J-Town Deli & Country Store. \nParties of 8 or more can call the chamber at 978-580-0905 and book any time. \nChildren 3 or under sitting on lap – not receiving Bell/Bag or Chocolates are FREE
URL:https://jacksonnh.com/event/jingle-bell-chocolate-tour-31/
LOCATION:Nestlenook Farm\, NH\, United States
ORGANIZER;CN="Jackson Area Chamber of Commerce":MAILTO:kathleen@jacksonnh.com
END:VEVENT
BEGIN:VEVENT
DTSTART;TZID=America/New_York:20261220T110000
DTEND;TZID=America/New_York:20261220T160000
DTSTAMP:20260423T020347
CREATED:20260219T211043Z
LAST-MODIFIED:20260219T211043Z
UID:7961-1797764400-1797782400@jacksonnh.com
SUMMARY:Jingle Bell Chocolate Tour
DESCRIPTION:Welcome to the 24th annual Jingle Bell Chocolate Tour!  We are thrilled to celebrate another year of chocolatey deliciousness combined with an Austrian Horse-drawn sleigh ride through the magical winter wonderland of Nestlenook Farm. \nPlease check in on the second floor of the Nestlenook Farm Ticket & Rental Center.  Our goal is to make your first impression feel like stepping into the beginning of an enchanted Christmas Story.  Upon arrival\, you will receive your Jingle Bell and festive bag to hold any chocolates you choose to save for later. \nYou will have your choice of hot chocolate or hot apple cider\, along with a special chocolate treat from the Chamber.  From there\, you will visit each business-sponsored table to collect a variety of homemade confections.  We expect to have at least seven sponsored tables\, each offering a unique chocolate treat. \nDon’t get left out this year… pick up the phone and make your reservations with the Wentworth\, the Snowflake Inn\, the Eagle Mountain House & Golf Club\, the Christmas Farm Inn Spa\, the Inn at Thorn Hill & Spa\, the Inn at Jackson and check back for more.  Don’t forget to frequent our other chocolate sponsors from the Nestlenook Farm and J-Town Deli & Country Store. \nParties of 8 or more can call the chamber at 978-580-0905 and book any time. \nChildren 3 or under sitting on lap – not receiving Bell/Bag or Chocolates are FREE
URL:https://jacksonnh.com/event/jingle-bell-chocolate-tour-32/
LOCATION:Nestlenook Farm\, NH\, United States
ORGANIZER;CN="Jackson Area Chamber of Commerce":MAILTO:kathleen@jacksonnh.com
END:VEVENT
END:VCALENDAR