BEGIN:VCALENDAR
VERSION:2.0
PRODID:-//Jackson NH - ECPv6.15.20//NONSGML v1.0//EN
CALSCALE:GREGORIAN
METHOD:PUBLISH
X-ORIGINAL-URL:https://jacksonnh.com
X-WR-CALDESC:Events for Jackson NH
REFRESH-INTERVAL;VALUE=DURATION:PT1H
X-Robots-Tag:noindex
X-PUBLISHED-TTL:PT1H
BEGIN:VTIMEZONE
TZID:America/New_York
BEGIN:DAYLIGHT
TZOFFSETFROM:-0500
TZOFFSETTO:-0400
TZNAME:EDT
DTSTART:20250309T070000
END:DAYLIGHT
BEGIN:STANDARD
TZOFFSETFROM:-0400
TZOFFSETTO:-0500
TZNAME:EST
DTSTART:20251102T060000
END:STANDARD
BEGIN:DAYLIGHT
TZOFFSETFROM:-0500
TZOFFSETTO:-0400
TZNAME:EDT
DTSTART:20260308T070000
END:DAYLIGHT
BEGIN:STANDARD
TZOFFSETFROM:-0400
TZOFFSETTO:-0500
TZNAME:EST
DTSTART:20261101T060000
END:STANDARD
BEGIN:DAYLIGHT
TZOFFSETFROM:-0500
TZOFFSETTO:-0400
TZNAME:EDT
DTSTART:20270314T070000
END:DAYLIGHT
BEGIN:STANDARD
TZOFFSETFROM:-0400
TZOFFSETTO:-0500
TZNAME:EST
DTSTART:20271107T060000
END:STANDARD
END:VTIMEZONE
BEGIN:VEVENT
DTSTART;VALUE=DATE:20261001
DTEND;VALUE=DATE:20261101
DTSTAMP:20260422T225714
CREATED:20260216T181131Z
LAST-MODIFIED:20260216T181727Z
UID:7901-1790812800-1793491199@jacksonnh.com
SUMMARY:Return of the Pumpkin People
DESCRIPTION:Photo Above is the Skimos’ Ski Club all around winner of the 2025 Return of the Pumpkin People Displays.  You just aren’t famous until a Pumpkin People display has been done of you or your business… this one is the infamous Jon Sarty and the White Mountain Boys!  Our favorite band and people!  You can hear them play at our Covered Bridge Dance every year! \n  \nJackson\, New Hampshire: A recognized quintessential New England Village and a highly visited resort destination prepares for the 42nd celebration of the                                    Return of the Pumpkin People – Oct 1st – 31st\, 2026 \nOn October 1\, 2026 the Jackson Area of New Hampshire will be busy checking in the  Return of the Pumpkin People.  These quirky unique and often hilarious Pumpkin People show up in Intervale\, Glen\, Bartlett\, Harts Location\, Conway and Jackson New Hampshire.  This year you will enjoy more than 50 displays.   Pack your cameras\, make your reservations and be sure to get your Official Return of the Pumpkin People Map located at most participating businesses and at the Jackson Area Chamber of Commerce office located at 18 Main Street\, Jackson\, NH. \nTake it from local business owner of the Snowflake Inn\, Sue Methot (the Snowflake Inn has been the recipient of many winning titles) “It is something you just don’t want to miss!” Hundreds of new visitors come every year raving about the displays they have visited and vowing to return year after year.  This is a leaf peeper’s dream… a must see event!  \nReturn of the Pumpkin People is a self-guided tour enjoyed at your leisure.  You will be visiting some of New Hampshire’s best restaurants\, lodging properties\, services\, stores and more… Plan a weekend around your visit… When ever you decide to see it please be sure to stop in to participating businesses\, thank them for their hard work and share with them just how much you enjoyed their display. \nOnly at this event will you see displays of Pumpkin People doing things you never thought possible… they fly\, they boat\, hang around in trees\, on poles\, in the sky and more.  For more detailed information please visit us on the web at JacksonNH.com or Facebook at JacksonAreaCofC.  You can print a map off our website JacksonNH.com or call the office at 603-383-9356 and we’ll mail one out to you today! \n 
URL:https://jacksonnh.com/event/return-of-the-pumpkin-people-24/
LOCATION:Jackson Area of New Hampshire
ORGANIZER;CN="Jackson Area Chamber of Commerce":MAILTO:kathleen@jacksonnh.com
END:VEVENT
BEGIN:VEVENT
DTSTART;VALUE=DATE:20261016
DTEND;VALUE=DATE:20261019
DTSTAMP:20260422T225714
CREATED:20260216T182828Z
LAST-MODIFIED:20260216T182828Z
UID:7906-1792108800-1792367999@jacksonnh.com
SUMMARY:All Things Pumpkin Festival
DESCRIPTION:This Festival includes but is not limited to a Pumpkin Carving Event\, Pumpkin Treat Tastings\, Pumpkin Games\, and we are working on getting the “All Things Pumpkin Tour” again.  Please check back as we update our happenings.
URL:https://jacksonnh.com/event/all-things-pumpkin-festival-4/
END:VEVENT
END:VCALENDAR