BEGIN:VCALENDAR
VERSION:2.0
PRODID:-//Jackson NH - ECPv6.15.20//NONSGML v1.0//EN
CALSCALE:GREGORIAN
METHOD:PUBLISH
X-WR-CALNAME:Jackson NH
X-ORIGINAL-URL:https://jacksonnh.com
X-WR-CALDESC:Events for Jackson NH
REFRESH-INTERVAL;VALUE=DURATION:PT1H
X-Robots-Tag:noindex
X-PUBLISHED-TTL:PT1H
BEGIN:VTIMEZONE
TZID:America/New_York
BEGIN:DAYLIGHT
TZOFFSETFROM:-0500
TZOFFSETTO:-0400
TZNAME:EDT
DTSTART:20240310T070000
END:DAYLIGHT
BEGIN:STANDARD
TZOFFSETFROM:-0400
TZOFFSETTO:-0500
TZNAME:EST
DTSTART:20241103T060000
END:STANDARD
BEGIN:DAYLIGHT
TZOFFSETFROM:-0500
TZOFFSETTO:-0400
TZNAME:EDT
DTSTART:20250309T070000
END:DAYLIGHT
BEGIN:STANDARD
TZOFFSETFROM:-0400
TZOFFSETTO:-0500
TZNAME:EST
DTSTART:20251102T060000
END:STANDARD
BEGIN:DAYLIGHT
TZOFFSETFROM:-0500
TZOFFSETTO:-0400
TZNAME:EDT
DTSTART:20260308T070000
END:DAYLIGHT
BEGIN:STANDARD
TZOFFSETFROM:-0400
TZOFFSETTO:-0500
TZNAME:EST
DTSTART:20261101T060000
END:STANDARD
END:VTIMEZONE
BEGIN:VEVENT
DTSTART;TZID=America/New_York:20251206T110000
DTEND;TZID=America/New_York:20251206T160000
DTSTAMP:20260425T100540
CREATED:20250627T155018Z
LAST-MODIFIED:20251028T143725Z
UID:7508-1765018800-1765036800@jacksonnh.com
SUMMARY:Jingle Bell Chocolate Tour
DESCRIPTION:Thank you for your interest in securing  tickets to the 2025 23rd Jingle Bell Chocolate Tour.    \nOver the years this event has become a family tradition.  Riders can book their sleighs early in the year when making a lodging reservation at one of the Jackson Area Chamber of Commerce Premiere Chocolatier Properties.  Chocolatier Lodging Properties are:  J-Town Deli & Country Store\, Nestlenook Farm\, Snowflake Inn\, RiverWood Inn\, Christmas Farm Inn & Spa\, the Inn at Thorn Hill & Spa\, the Inn at Jackson\, the Wentworth\, the Eagle Mountain House & Golf Club.  Staying at one of our Chocolatier Properties is the only way you can book your ride early or if you are booking 8 or more riders.  Rides do not open to the general public until November 1st.   \nTickets are priced at $45 per person.  Children 2 or under sitting on your lap not taking chocolates or a seat are free.                                                           \nPlease be aware that although we recommend our  chocolatiers not use nuts in the special chocolates they offer\, they may choose to use nuts or their chocolates may have come in contact with nuts\, nut products or nut oils.  If you or one of your parties have an allergy ALWAYS read the ingredients prior to taking the chocolate if you have any allergies prior to                                           accepting/eating the chocolates.                            \nThe $45 ticket purchase includes a Jingle Bell\, a festive bag to hold any uneaten chocolates\, home– made chocolates\,  and a horse drawn Austrian sleigh ride through the Enchanted Trails of Nestlenook Farm.  \nThe Welcome Check In area is upstairs from the Ticket & Rental Area at Nestlenook Farm.  You will want all your party to join you as you check in.  The Welcome check in process will very much be a part of the all new Jingle Bell Chocolate Tour experience.  You will feel like you are walking into Christmas Candy Land.  The room will be filled with Christmas Cheer and merriment.  You find a beautifully decorated table by each Chocolatier’s property presenting their home-made Chocolate and information regarding their business.   \nWhen your sleigh ride returns Nestlenook invites you to warm by any of their fires located throughout their property.  You can purchase Smores Packages (priced separately) at the Ticket & Rental Area.                                         \nYou are welcome to visit any of the chocolatier properties for a tour and to learn more about them.   \nPlease note our sleighs are open to weather and blankets are not provided.  Please feel free to bring your blankets with you.  Our sleighs hold up to 10 or 12 people depending upon what sleigh you are scheduled to ride on.  All sleighs will be full and if you booked less than 10 people you will be riding with other parties.                                                     \nVERY IMPORTANT…  If your party has extra large riders you should purchase an extra seat for comfort reasons.  Seats are based on average sized adults under 225 lbs.  And all Sleighs are full!                           \n 
URL:https://jacksonnh.com/event/jingle-bell-chocolate-tour-19/
LOCATION:The Snowflake Inn\, 95 Main Street\, Jackson\, 03846\, United States
ORGANIZER;CN="Jackson Area Chamber of Commerce":MAILTO:kathleen@jacksonnh.com
END:VEVENT
BEGIN:VEVENT
DTSTART;TZID=America/New_York:20251207T110000
DTEND;TZID=America/New_York:20251207T160000
DTSTAMP:20260425T100540
CREATED:20250627T155131Z
LAST-MODIFIED:20251028T143656Z
UID:7510-1765105200-1765123200@jacksonnh.com
SUMMARY:Jingle Bell Chocolate Tour
DESCRIPTION:Thank you for your interest in securing  tickets to the 2025 23rd Jingle Bell Chocolate Tour.    \nOver the years this event has become a family tradition.  Riders can book their sleighs early in the year when making a lodging reservation at one of the Jackson Area Chamber of Commerce Premiere Chocolatier Properties.  Chocolatier Lodging Properties are:  J-Town Deli & Country Store\, Nestlenook Farm\, Snowflake Inn\, RiverWood Inn\, Christmas Farm Inn & Spa\, the Inn at Thorn Hill & Spa\, the Inn at Jackson\, the Wentworth\, the Eagle Mountain House & Golf Club.  Staying at one of our Chocolatier Properties is the only way you can book your ride early or if you are booking 8 or more riders.  Rides do not open to the general public until November 1st.   \nTickets are priced at $45 per person.  Children 2 or under sitting on your lap not taking chocolates or a seat are free.                                                           \nPlease be aware that although we recommend our  chocolatiers not use nuts in the special chocolates they offer\, they may choose to use nuts or their chocolates may have come in contact with nuts\, nut products or nut oils.  If you or one of your parties have an allergy ALWAYS read the ingredients prior to taking the chocolate if you have any allergies prior to                                           accepting/eating the chocolates.                            \nThe $45 ticket purchase includes a Jingle Bell\, a festive bag to hold any uneaten chocolates\, home– made chocolates\,  and a horse drawn Austrian sleigh ride through the Enchanted Trails of Nestlenook Farm.  \nThe Welcome Check In area is upstairs from the Ticket & Rental Area at Nestlenook Farm.  You will want all your party to join you as you check in.  The Welcome check in process will very much be a part of the all new Jingle Bell Chocolate Tour experience.  You will feel like you are walking into Christmas Candy Land.  The room will be filled with Christmas Cheer and merriment.  You find a beautifully decorated table by each Chocolatier’s property presenting their home-made Chocolate and information regarding their business.   \nWhen your sleigh ride returns Nestlenook invites you to warm by any of their fires located throughout their property.  You can purchase Smores Packages (priced separately) at the Ticket & Rental Area.                                         \nYou are welcome to visit any of the chocolatier properties for a tour and to learn more about them.   \nPlease note our sleighs are open to weather and blankets are not provided.  Please feel free to bring your blankets with you.  Our sleighs hold up to 10 or 12 people depending upon what sleigh you are scheduled to ride on.  All sleighs will be full and if you booked less than 10 people you will be riding with other parties.                                                     \nVERY IMPORTANT…  If your party has extra large riders you should purchase an extra seat for comfort reasons.  Seats are based on average sized adults under 225 lbs.  And all Sleighs are full!                           \n 
URL:https://jacksonnh.com/event/7510/
LOCATION:The Snowflake Inn\, 95 Main Street\, Jackson\, 03846\, United States
ORGANIZER;CN="Jackson Area Chamber of Commerce":MAILTO:kathleen@jacksonnh.com
END:VEVENT
BEGIN:VEVENT
DTSTART;TZID=America/New_York:20251213T110000
DTEND;TZID=America/New_York:20251213T160000
DTSTAMP:20260425T100540
CREATED:20250627T155248Z
LAST-MODIFIED:20251028T143626Z
UID:7512-1765623600-1765641600@jacksonnh.com
SUMMARY:Jingle Bell Chocolate Tour
DESCRIPTION:Thank you for your interest in securing  tickets to the 2025 23rd Jingle Bell Chocolate Tour.    \nOver the years this event has become a family tradition.  Riders can book their sleighs early in the year when making a lodging reservation at one of the Jackson Area Chamber of Commerce Premiere Chocolatier Properties.  Chocolatier Lodging Properties are:  J-Town Deli & Country Store\, Nestlenook Farm\, Snowflake Inn\, RiverWood Inn\, Christmas Farm Inn & Spa\, the Inn at Thorn Hill & Spa\, the Inn at Jackson\, the Wentworth\, the Eagle Mountain House & Golf Club.  Staying at one of our Chocolatier Properties is the only way you can book your ride early or if you are booking 8 or more riders.  Rides do not open to the general public until November 1st.   \nTickets are priced at $45 per person.  Children 2 or under sitting on your lap not taking chocolates or a seat are free.                                                           \nPlease be aware that although we recommend our  chocolatiers not use nuts in the special chocolates they offer\, they may choose to use nuts or their chocolates may have come in contact with nuts\, nut products or nut oils.  If you or one of your parties have an allergy ALWAYS read the ingredients prior to taking the chocolate if you have any allergies prior to                                           accepting/eating the chocolates.                            \nThe $45 ticket purchase includes a Jingle Bell\, a festive bag to hold any uneaten chocolates\, home– made chocolates\,  and a horse drawn Austrian sleigh ride through the Enchanted Trails of Nestlenook Farm.  \nThe Welcome Check In area is upstairs from the Ticket & Rental Area at Nestlenook Farm.  You will want all your party to join you as you check in.  The Welcome check in process will very much be a part of the all new Jingle Bell Chocolate Tour experience.  You will feel like you are walking into Christmas Candy Land.  The room will be filled with Christmas Cheer and merriment.  You find a beautifully decorated table by each Chocolatier’s property presenting their home-made Chocolate and information regarding their business.   \nWhen your sleigh ride returns Nestlenook invites you to warm by any of their fires located throughout their property.  You can purchase Smores Packages (priced separately) at the Ticket & Rental Area.                                         \nYou are welcome to visit any of the chocolatier properties for a tour and to learn more about them.   \nPlease note our sleighs are open to weather and blankets are not provided.  Please feel free to bring your blankets with you.  Our sleighs hold up to 10 or 12 people depending upon what sleigh you are scheduled to ride on.  All sleighs will be full and if you booked less than 10 people you will be riding with other parties.                                                     \nVERY IMPORTANT…  If your party has extra large riders you should purchase an extra seat for comfort reasons.  Seats are based on average sized adults under 225 lbs.  And all Sleighs are full!                           \n 
URL:https://jacksonnh.com/event/jingle-bell-chocolate-tour-20/
LOCATION:The Snowflake Inn\, 95 Main Street\, Jackson\, 03846\, United States
ORGANIZER;CN="Jackson Area Chamber of Commerce":MAILTO:kathleen@jacksonnh.com
END:VEVENT
BEGIN:VEVENT
DTSTART;TZID=America/New_York:20251214T110000
DTEND;TZID=America/New_York:20251214T160000
DTSTAMP:20260425T100540
CREATED:20250627T155356Z
LAST-MODIFIED:20251028T143343Z
UID:7514-1765710000-1765728000@jacksonnh.com
SUMMARY:Jingle Bell Chocolate Tour
DESCRIPTION:Thank you for your interest in securing  tickets to the 2025 23rd Jingle Bell Chocolate Tour.    \nOver the years this event has become a family tradition.  Riders can book their sleighs early in the year when making a lodging reservation at one of the Jackson Area Chamber of Commerce Premiere Chocolatier Properties.  Chocolatier Lodging Properties are:  J-Town Deli & Country Store\, Nestlenook Farm\, Snowflake Inn\, RiverWood Inn\, Christmas Farm Inn & Spa\, the Inn at Thorn Hill & Spa\, the Inn at Jackson\, the Wentworth\, the Eagle Mountain House & Golf Club.  Staying at one of our Chocolatier Properties is the only way you can book your ride early or if you are booking 8 or more riders.  Rides do not open to the general public until November 1st.   \nTickets are priced at $45 per person.  Children 2 or under sitting on your lap not taking chocolates or a seat are free.                                                           \nPlease be aware that although we recommend our  chocolatiers not use nuts in the special chocolates they offer\, they may choose to use nuts or their chocolates may have come in contact with nuts\, nut products or nut oils.  If you or one of your parties have an allergy ALWAYS read the ingredients prior to taking the chocolate if you have any allergies prior to                                           accepting/eating the chocolates.                            \nThe $45 ticket purchase includes a Jingle Bell\, a festive bag to hold any uneaten chocolates\, home– made chocolates\,  and a horse drawn Austrian sleigh ride through the Enchanted Trails of Nestlenook Farm.  \nThe Welcome Check In area is upstairs from the Ticket & Rental Area at Nestlenook Farm.  You will want all your party to join you as you check in.  The Welcome check in process will very much be a part of the all new Jingle Bell Chocolate Tour experience.  You will feel like you are walking into Christmas Candy Land.  The room will be filled with Christmas Cheer and merriment.  You find a beautifully decorated table by each Chocolatier’s property presenting their home-made Chocolate and information regarding their business.   \nWhen your sleigh ride returns Nestlenook invites you to warm by any of their fires located throughout their property.  You can purchase Smores Packages (priced separately) at the Ticket & Rental Area.                                         \nYou are welcome to visit any of the chocolatier properties for a tour and to learn more about them.   \nPlease note our sleighs are open to weather and blankets are not provided.  Please feel free to bring your blankets with you.  Our sleighs hold up to 10 or 12 people depending upon what sleigh you are scheduled to ride on.  All sleighs will be full and if you booked less than 10 people you will be riding with other parties.                                                     \nVERY IMPORTANT…  If your party has extra large riders you should purchase an extra seat for comfort reasons.  Seats are based on average sized adults under 225 lbs.  And all Sleighs are full!                           \n 
URL:https://jacksonnh.com/event/jingle-bell-chocolate-tour-21/
LOCATION:The Snowflake Inn\, 95 Main Street\, Jackson\, 03846\, United States
ORGANIZER;CN="Jackson Area Chamber of Commerce":MAILTO:kathleen@jacksonnh.com
END:VEVENT
BEGIN:VEVENT
DTSTART;TZID=America/New_York:20251220T110000
DTEND;TZID=America/New_York:20251220T160000
DTSTAMP:20260425T100540
CREATED:20250627T155517Z
LAST-MODIFIED:20251028T142939Z
UID:7516-1766228400-1766246400@jacksonnh.com
SUMMARY:Jingle Bell Chocolate Tour
DESCRIPTION:Thank you for your interest in securing  tickets to the 2025 23rd Jingle Bell Chocolate Tour.    \nOver the years this event has become a family tradition.  Riders can book their sleighs early in the year when making a lodging reservation at one of the Jackson Area Chamber of Commerce Premiere Chocolatier Properties.  Chocolatier Lodging Properties are:  Snowflake Inn\, RiverWood Inn\, Christmas Farm Inn & Spa\, the Inn at Thorn Hill & Spa\, the Inn at Jackson\, the Wentworth\, the Eagle Mountain House & Golf Club\, J-Town Deli & Country Store and Nestlenook Farm.  Staying at one of our Chocolatier Properties is the only way you can book your ride early or if you are booking 8 or more riders.  Rides do not open to the general public until November 1st.   \nTickets are priced at $45 per person.  Children 2 or under sitting on your lap not taking chocolates or a seat are free.                                                           \nPlease be aware that although we recommend our  chocolatiers not use nuts in the special chocolates they offer\, they may choose to use nuts or their chocolates may have come in contact with nuts\, nut products or nut oils.  If you or one of your parties have an allergy ALWAYS read the ingredients prior to taking the chocolate if you have any allergies prior to                                           accepting/eating the chocolates.                            \nThe $45 ticket purchase includes a Jingle Bell\, a festive bag to hold any uneaten chocolates\, home– made chocolates\,  and a horse drawn Austrian sleigh ride through the Enchanted Trails of Nestlenook Farm.  \nThe Welcome Check In area is upstairs from the Ticket & Rental Area at Nestlenook Farm.  You will want all your party to join you as you check in.  The Welcome check in process will very much be a part of the all new Jingle Bell Chocolate Tour experience.  You will feel like you are walking into Christmas Candy Land.  The room will be filled with Christmas Cheer and merriment.  You find a beautifully decorated table by each Chocolatier’s property presenting their home-made Chocolate and information regarding their business.   \nWhen your sleigh ride returns Nestlenook invites you to warm by any of their fires located throughout their property.  You can purchase Smores Packages (priced separately) at the Ticket & Rental Area.                                         \nYou are welcome to visit any of the chocolatier properties for a tour and to learn more about them.   \nPlease note our sleighs are open to weather and blankets are not provided.  Please feel free to bring your blankets with you.  Our sleighs hold up to 10 or 12 people depending upon what sleigh you are scheduled to ride on.  All sleighs will be full and if you booked less than 10 people you will be riding with other parties.                                                     \nVERY IMPORTANT…  If your party has extra large riders you should purchase an extra seat for comfort reasons.  Seats are based on average sized adults under 225 lbs.  And all Sleighs are full!   
URL:https://jacksonnh.com/event/jingle-bell-chocolate-tour-22/
LOCATION:The Snowflake Inn\, 95 Main Street\, Jackson\, 03846\, United States
ORGANIZER;CN="Jackson Area Chamber of Commerce":MAILTO:kathleen@jacksonnh.com
END:VEVENT
BEGIN:VEVENT
DTSTART;TZID=America/New_York:20251226T140000
DTEND;TZID=America/New_York:20251226T170000
DTSTAMP:20260425T100540
CREATED:20251212T172440Z
LAST-MODIFIED:20251212T172440Z
UID:7806-1766757600-1766768400@jacksonnh.com
SUMMARY:Paint Mt Washington (watercolors) w/ Deb Samia
DESCRIPTION:Join local artist Deb Samia and paint a watercolor painting of Mt Washington. Deb will walk you through the painting step by step using wet-on-wet and dry-on-dry techniques. Each person will create their own masterpiece. All supplies are included and some painting experience is helpful. This workshop is for adults and high school aged students. Limit to 8 people.  Enjoy some refreshments while you paint! \nFriday\, Dec 26\, 2-5pm\, $75  (adults and high school aged students) \nCancellation Policy: We ask that you to give us one weeks notice if you need to cancel for a full refund minus a $15 cancellation fee. Cancellations should be made by phone by calling (603) 387-3463. This provides us the opportunity to fill the space.We are sorry\, but we cannot give refunds or issue credits for missed classes or no shows. 
URL:https://jacksonnh.com/event/paint-mt-washington-watercolors-w-deb-samia/
LOCATION:Jackson Art Studio and Gallery\, 155 Ridge Road\, Jackson\, NH\, 03846
END:VEVENT
BEGIN:VEVENT
DTSTART;TZID=America/New_York:20251227T130000
DTEND;TZID=America/New_York:20251227T153000
DTSTAMP:20260425T100540
CREATED:20251212T172644Z
LAST-MODIFIED:20251212T172644Z
UID:7808-1766840400-1766849400@jacksonnh.com
SUMMARY:Watercolor Birch Tree Painting w/ Deb Samia
DESCRIPTION:Join local artist Deb Samia and paint a watercolor birch tree painting. Deb will walk you through the painting step by step using wet-on-wet and dry-on-dry techniques. We will also use a plastic card for details. Each person will create their own masterpiece. All supplies are included and no painting experience is necessary. This workshop is for adults and high school aged students. Limit of eight people. Enjoy some refreshments while you paint! \nSaturday\, Dec 27\, 1-3:30pm\, $55  (adults and high school aged students) \nCancellation Policy: We ask that you to give us one weeks notice if you need to cancel for a full refund minus a $15 cancellation fee. Cancellations should be made by phone by calling (603) 387-3463. This provides us the opportunity to fill the space.We are sorry\, but we cannot give refunds or issue credits for missed classes or no shows.  \n  \nDeb Samia is a watercolor and pastel artist\, mainly gaining her inspiration from nature. Deb was born in Woodsville\, NH and grew up in Ashland \,NH. She now resides in the beautiful Mount Washington Valley with her family\, where her love of art and the outdoors took hold. Her art has been showcased on beer labels for Squam Brewing Company as well as the White Mountain Winery.  Deb’s style of art ranges from bringing pet photos to life on paper to sitting outside and painting the landscape which surrounds her.
URL:https://jacksonnh.com/event/watercolor-birch-tree-painting-w-deb-samia/
LOCATION:Jackson Art Studio and Gallery\, 155 Ridge Road\, Jackson\, NH\, 03846
END:VEVENT
END:VCALENDAR