BEGIN:VCALENDAR
VERSION:2.0
PRODID:-//Jackson NH - ECPv6.15.20//NONSGML v1.0//EN
CALSCALE:GREGORIAN
METHOD:PUBLISH
X-WR-CALNAME:Jackson NH
X-ORIGINAL-URL:https://jacksonnh.com
X-WR-CALDESC:Events for Jackson NH
REFRESH-INTERVAL;VALUE=DURATION:PT1H
X-Robots-Tag:noindex
X-PUBLISHED-TTL:PT1H
BEGIN:VTIMEZONE
TZID:America/New_York
BEGIN:DAYLIGHT
TZOFFSETFROM:-0500
TZOFFSETTO:-0400
TZNAME:EDT
DTSTART:20240310T070000
END:DAYLIGHT
BEGIN:STANDARD
TZOFFSETFROM:-0400
TZOFFSETTO:-0500
TZNAME:EST
DTSTART:20241103T060000
END:STANDARD
BEGIN:DAYLIGHT
TZOFFSETFROM:-0500
TZOFFSETTO:-0400
TZNAME:EDT
DTSTART:20250309T070000
END:DAYLIGHT
BEGIN:STANDARD
TZOFFSETFROM:-0400
TZOFFSETTO:-0500
TZNAME:EST
DTSTART:20251102T060000
END:STANDARD
BEGIN:DAYLIGHT
TZOFFSETFROM:-0500
TZOFFSETTO:-0400
TZNAME:EDT
DTSTART:20260308T070000
END:DAYLIGHT
BEGIN:STANDARD
TZOFFSETFROM:-0400
TZOFFSETTO:-0500
TZNAME:EST
DTSTART:20261101T060000
END:STANDARD
END:VTIMEZONE
BEGIN:VEVENT
DTSTART;TZID=America/New_York:20251122T080000
DTEND;TZID=America/New_York:20251122T170000
DTSTAMP:20260425T083110
CREATED:20250625T175042Z
LAST-MODIFIED:20251028T144357Z
UID:7496-1763798400-1763830800@jacksonnh.com
SUMMARY:Jingle Bell Chocolate Tour
DESCRIPTION:Thank you for your interest in securing  tickets to the 2025 23rd Jingle Bell Chocolate Tour.    \nOver the years this event has become a family tradition.  Riders can book their sleighs early in the year when making a lodging reservation at one of the Jackson Area Chamber of Commerce Premiere Chocolatier Properties.  Chocolatier Lodging Properties are:  J-Town Deli & Country Store\, Nestlenook Farm\, Snowflake Inn\, RiverWood Inn\, Christmas Farm Inn & Spa\, the Inn at Thorn Hill & Spa\, the Inn at Jackson\, the Wentworth\, the Eagle Mountain House & Golf Club.  Staying at one of our Chocolatier Properties is the only way you can book your ride early or if you are booking 8 or more riders.  Rides do not open to the general public until November 1st.   \nTickets are priced at $45 per person.  Children 2 or under sitting on your lap not taking chocolates or a seat are free.                                                           \nPlease be aware that although we recommend our  chocolatiers not use nuts in the special chocolates they offer\, they may choose to use nuts or their chocolates may have come in contact with nuts\, nut products or nut oils.  If you or one of your parties have an allergy ALWAYS read the ingredients prior to taking the chocolate if you have any allergies prior to                                           accepting/eating the chocolates.                            \nThe $45 ticket purchase includes a Jingle Bell\, a festive bag to hold any uneaten chocolates\, home– made chocolates\,  and a horse drawn Austrian sleigh ride through the Enchanted Trails of Nestlenook Farm.  \nThe Welcome Check In area is upstairs from the Ticket & Rental Area at Nestlenook Farm.  You will want all your party to join you as you check in.  The Welcome check in process will very much be a part of the all new Jingle Bell Chocolate Tour experience.  You will feel like you are walking into Christmas Candy Land.  The room will be filled with Christmas Cheer and merriment.  You find a beautifully decorated table by each Chocolatier’s property presenting their home-made Chocolate and information regarding their business.   \nWhen your sleigh ride returns Nestlenook invites you to warm by any of their fires located throughout their property.  You can purchase Smores Packages (priced separately) at the Ticket & Rental Area.                                         \nYou are welcome to visit any of the chocolatier properties for a tour and to learn more about them.   \nPlease note our sleighs are open to weather and blankets are not provided.  Please feel free to bring your blankets with you.  Our sleighs hold up to 10 or 12 people depending upon what sleigh you are scheduled to ride on.  All sleighs will be full and if you booked less than 10 people you will be riding with other parties.                                                     \nVERY IMPORTANT…  If your party has extra large riders you should purchase an extra seat for comfort reasons.  Seats are based on average sized adults under 225 lbs.  And all Sleighs are full!                           \n \n \n  \n  \n 
URL:https://jacksonnh.com/event/jingle-bell-chocolate-tour-15/
LOCATION:The Snowflake Inn\, 95 Main Street\, Jackson\, 03846\, United States
ORGANIZER;CN="Jackson Area Chamber of Commerce":MAILTO:kathleen@jacksonnh.com
END:VEVENT
BEGIN:VEVENT
DTSTART;TZID=America/New_York:20251123T110000
DTEND;TZID=America/New_York:20251123T160000
DTSTAMP:20260425T083110
CREATED:20250625T175347Z
LAST-MODIFIED:20251028T143924Z
UID:7501-1763895600-1763913600@jacksonnh.com
SUMMARY:Jingle Bell Chocolate Tour
DESCRIPTION:Thank you for your interest in securing  tickets to the 2025 23rd Jingle Bell Chocolate Tour.    \nOver the years this event has become a family tradition.  Riders can book their sleighs early in the year when making a lodging reservation at one of the Jackson Area Chamber of Commerce Premiere Chocolatier Properties.  Chocolatier Lodging Properties are:  J-Town Deli & Country Store\, Nestlenook Farm\, Snowflake Inn\, RiverWood Inn\, Christmas Farm Inn & Spa\, the Inn at Thorn Hill & Spa\, the Inn at Jackson\, the Wentworth\, the Eagle Mountain House & Golf Club.  Staying at one of our Chocolatier Properties is the only way you can book your ride early or if you are booking 8 or more riders.  Rides do not open to the general public until November 1st.   \nTickets are priced at $45 per person.  Children 2 or under sitting on your lap not taking chocolates or a seat are free.                                                           \nPlease be aware that although we recommend our  chocolatiers not use nuts in the special chocolates they offer\, they may choose to use nuts or their chocolates may have come in contact with nuts\, nut products or nut oils.  If you or one of your parties have an allergy ALWAYS read the ingredients prior to taking the chocolate if you have any allergies prior to                                           accepting/eating the chocolates.                            \nThe $45 ticket purchase includes a Jingle Bell\, a festive bag to hold any uneaten chocolates\, home– made chocolates\,  and a horse drawn Austrian sleigh ride through the Enchanted Trails of Nestlenook Farm.  \nThe Welcome Check In area is upstairs from the Ticket & Rental Area at Nestlenook Farm.  You will want all your party to join you as you check in.  The Welcome check in process will very much be a part of the all new Jingle Bell Chocolate Tour experience.  You will feel like you are walking into Christmas Candy Land.  The room will be filled with Christmas Cheer and merriment.  You find a beautifully decorated table by each Chocolatier’s property presenting their home-made Chocolate and information regarding their business.   \nWhen your sleigh ride returns Nestlenook invites you to warm by any of their fires located throughout their property.  You can purchase Smores Packages (priced separately) at the Ticket & Rental Area.                                         \nYou are welcome to visit any of the chocolatier properties for a tour and to learn more about them.   \nPlease note our sleighs are open to weather and blankets are not provided.  Please feel free to bring your blankets with you.  Our sleighs hold up to 10 or 12 people depending upon what sleigh you are scheduled to ride on.  All sleighs will be full and if you booked less than 10 people you will be riding with other parties.                                                     \nVERY IMPORTANT…  If your party has extra large riders you should purchase an extra seat for comfort reasons.  Seats are based on average sized adults under 225 lbs.  And all Sleighs are full!                           \n 
URL:https://jacksonnh.com/event/jingle-bell-chocolate-tour-16/
LOCATION:The Snowflake Inn\, 95 Main Street\, Jackson\, 03846\, United States
ORGANIZER;CN="Jackson Area Chamber of Commerce":MAILTO:kathleen@jacksonnh.com
END:VEVENT
BEGIN:VEVENT
DTSTART;TZID=America/New_York:20251127T120000
DTEND;TZID=America/New_York:20251127T160000
DTSTAMP:20260425T083110
CREATED:20251016T172633Z
LAST-MODIFIED:20251016T172633Z
UID:7669-1764244800-1764259200@jacksonnh.com
SUMMARY:Thanksgiving Menu at the GHS
DESCRIPTION:All Tables will receive a complimentary cheese board to start their Thanksgiving Celebration. \nSoup  –  Butternut Squash Creme Fresh \nSalad  –  Fresh Garden Greens of Local Baby Greens\, Candied Pecans\, Dried Blueberries\, Feta Crumble\, Maple Champagne Vinaigrette or Beet Salad Shaved Beets\, Tarragon\, Goat Cheese\, Candied Walnuts\, Blood Orange Vinaigrette \nMain Course Choice of: \nTurkey Dinner Cornbread Stuffing\, House Made Cranberry Chutney\, Garlic Smashed Red Potatoes\, Candied Sweet Potato\, Roasted Brussels\, Giblet Gravy or \nNew York Strip Steak Maple Bourbon Butter\, Roasted Red Potatoes\, Sauteed Spinach or \nMartini Salmon Tanqueray\, Capers\, Cherry Tomatoes\, Roasted Red Potatoes\, Sauteed Spinach or \nGrilled Cauliflower Steak Garlic Smashed Potato\, Vegetable Ratatouille Gravy\, Roasted Brussels\, Candied Sweeet Potato \nDessert choice of Pumpkin Pie Chantilly Cream or Apple Crisp Shain’s of Maine Vanilla Cream
URL:https://jacksonnh.com/event/thanksgiving-menu-at-the-ghs/
LOCATION:Grand Summit Hotel\, 104 Grand Summit Road\, Bartlett\, 03812\, United States
END:VEVENT
BEGIN:VEVENT
DTSTART;TZID=America/New_York:20251128T080000
DTEND;TZID=America/New_York:20251128T170000
DTSTAMP:20260425T083110
CREATED:20251128T182032Z
LAST-MODIFIED:20251128T182032Z
UID:7793-1764316800-1764349200@jacksonnh.com
SUMMARY:Santa's First Visit to Jackson and the Annual Tree Lighting
DESCRIPTION:  \nOur very own Chief Perley of our very fine Police Department will\, once again\, be escorting Santa to the Jackson Town Gazebo (lights will be blazing and sirens blaring.  Santa will be sure to meet with each child.  This year Santa has arranged to have his very special elves Ms. Christine and Ms. Hope from the Inn at Ellis River to help him Santa make sure that each child receives a special candy cane and chocolates.  And… we are so proud to announce that Lisa Du Fault Photography will be on hand taking photos of each child.  Photographs will be available to parents free of charge within the next couple of days following the event.  Join in caroling with Da Capo a Mount Washington Valley choral group (starting at 4:30 PM) sponsored by:  Christmas Farm Inn & Spa who has arranged for the group to continue with caroling at their Barn following the Tree Lighting which will take place at (approximately 5 PM). \nImmediately Following the Tree Lighting Christmas Farm Inn & Spa has invited everyone back to their Barn for their “Christmas Cheer” for Christmas Cookies\, and Hot Chocolate.  Holiday cocktails will be available at cost\, and the restaurant will be open by reservation from 5  –  9 PM\, reservations  HIGLY recommended in advance.  https://christmasfarminn.com/jackson-nh-restaurants/ \n  \n  \n 
URL:https://jacksonnh.com/event/santas-first-visit-to-jackson-and-the-annual-tree-lighting/
LOCATION:Jackson Village Gazebo\, Route 16 B Black Mountain Road\, Jackson\, New Hampshire\, 03846
ORGANIZER;CN="Jackson Area Chamber of Commerce":MAILTO:kathleen@jacksonnh.com
END:VEVENT
BEGIN:VEVENT
DTSTART;TZID=America/New_York:20251129T110000
DTEND;TZID=America/New_York:20251129T160000
DTSTAMP:20260425T083110
CREATED:20250625T175513Z
LAST-MODIFIED:20251028T143843Z
UID:7503-1764414000-1764432000@jacksonnh.com
SUMMARY:Jingle Bell Chocolate Tour
DESCRIPTION:Thank you for your interest in securing  tickets to the 2025 23rd Jingle Bell Chocolate Tour.    \nOver the years this event has become a family tradition.  Riders can book their sleighs early in the year when making a lodging reservation at one of the Jackson Area Chamber of Commerce Premiere Chocolatier Properties.  Chocolatier Lodging Properties are:  J-Town Deli & Country Store\, Nestlenook Farm\, Snowflake Inn\, RiverWood Inn\, Christmas Farm Inn & Spa\, the Inn at Thorn Hill & Spa\, the Inn at Jackson\, the Wentworth\, the Eagle Mountain House & Golf Club.  Staying at one of our Chocolatier Properties is the only way you can book your ride early or if you are booking 8 or more riders.  Rides do not open to the general public until November 1st.   \nTickets are priced at $45 per person.  Children 2 or under sitting on your lap not taking chocolates or a seat are free.                                                           \nPlease be aware that although we recommend our  chocolatiers not use nuts in the special chocolates they offer\, they may choose to use nuts or their chocolates may have come in contact with nuts\, nut products or nut oils.  If you or one of your parties have an allergy ALWAYS read the ingredients prior to taking the chocolate if you have any allergies prior to                                           accepting/eating the chocolates.                            \nThe $45 ticket purchase includes a Jingle Bell\, a festive bag to hold any uneaten chocolates\, home– made chocolates\,  and a horse drawn Austrian sleigh ride through the Enchanted Trails of Nestlenook Farm.  \nThe Welcome Check In area is upstairs from the Ticket & Rental Area at Nestlenook Farm.  You will want all your party to join you as you check in.  The Welcome check in process will very much be a part of the all new Jingle Bell Chocolate Tour experience.  You will feel like you are walking into Christmas Candy Land.  The room will be filled with Christmas Cheer and merriment.  You find a beautifully decorated table by each Chocolatier’s property presenting their home-made Chocolate and information regarding their business.   \nWhen your sleigh ride returns Nestlenook invites you to warm by any of their fires located throughout their property.  You can purchase Smores Packages (priced separately) at the Ticket & Rental Area.                                         \nYou are welcome to visit any of the chocolatier properties for a tour and to learn more about them.   \nPlease note our sleighs are open to weather and blankets are not provided.  Please feel free to bring your blankets with you.  Our sleighs hold up to 10 or 12 people depending upon what sleigh you are scheduled to ride on.  All sleighs will be full and if you booked less than 10 people you will be riding with other parties.                                                     \nVERY IMPORTANT…  If your party has extra large riders you should purchase an extra seat for comfort reasons.  Seats are based on average sized adults under 225 lbs.  And all Sleighs are full!                           \n 
URL:https://jacksonnh.com/event/jingle-bell-chocolate-tour-17/
LOCATION:The Snowflake Inn\, 95 Main Street\, Jackson\, 03846\, United States
ORGANIZER;CN="Jackson Area Chamber of Commerce":MAILTO:kathleen@jacksonnh.com
END:VEVENT
BEGIN:VEVENT
DTSTART;TZID=America/New_York:20251130T110000
DTEND;TZID=America/New_York:20251130T160000
DTSTAMP:20260425T083110
CREATED:20250625T175635Z
LAST-MODIFIED:20251028T143814Z
UID:7505-1764500400-1764518400@jacksonnh.com
SUMMARY:Jingle Bell Chocolate Tour
DESCRIPTION:Thank you for your interest in securing  tickets to the 2025 23rd Jingle Bell Chocolate Tour.    \nOver the years this event has become a family tradition.  Riders can book their sleighs early in the year when making a lodging reservation at one of the Jackson Area Chamber of Commerce Premiere Chocolatier Properties.  Chocolatier Lodging Properties are:  J-Town Deli & Country Store\, Nestlenook Farm\, Snowflake Inn\, RiverWood Inn\, Christmas Farm Inn & Spa\, the Inn at Thorn Hill & Spa\, the Inn at Jackson\, the Wentworth\, the Eagle Mountain House & Golf Club.  Staying at one of our Chocolatier Properties is the only way you can book your ride early or if you are booking 8 or more riders.  Rides do not open to the general public until November 1st.   \nTickets are priced at $45 per person.  Children 2 or under sitting on your lap not taking chocolates or a seat are free.                                                           \nPlease be aware that although we recommend our  chocolatiers not use nuts in the special chocolates they offer\, they may choose to use nuts or their chocolates may have come in contact with nuts\, nut products or nut oils.  If you or one of your parties have an allergy ALWAYS read the ingredients prior to taking the chocolate if you have any allergies prior to                                           accepting/eating the chocolates.                            \nThe $45 ticket purchase includes a Jingle Bell\, a festive bag to hold any uneaten chocolates\, home– made chocolates\,  and a horse drawn Austrian sleigh ride through the Enchanted Trails of Nestlenook Farm.  \nThe Welcome Check In area is upstairs from the Ticket & Rental Area at Nestlenook Farm.  You will want all your party to join you as you check in.  The Welcome check in process will very much be a part of the all new Jingle Bell Chocolate Tour experience.  You will feel like you are walking into Christmas Candy Land.  The room will be filled with Christmas Cheer and merriment.  You find a beautifully decorated table by each Chocolatier’s property presenting their home-made Chocolate and information regarding their business.   \nWhen your sleigh ride returns Nestlenook invites you to warm by any of their fires located throughout their property.  You can purchase Smores Packages (priced separately) at the Ticket & Rental Area.                                         \nYou are welcome to visit any of the chocolatier properties for a tour and to learn more about them.   \nPlease note our sleighs are open to weather and blankets are not provided.  Please feel free to bring your blankets with you.  Our sleighs hold up to 10 or 12 people depending upon what sleigh you are scheduled to ride on.  All sleighs will be full and if you booked less than 10 people you will be riding with other parties.                                                     \nVERY IMPORTANT…  If your party has extra large riders you should purchase an extra seat for comfort reasons.  Seats are based on average sized adults under 225 lbs.  And all Sleighs are full!                           \n 
URL:https://jacksonnh.com/event/jingle-bell-chocolate-tour-18/
LOCATION:The Snowflake Inn\, 95 Main Street\, Jackson\, 03846\, United States
ORGANIZER;CN="Jackson Area Chamber of Commerce":MAILTO:kathleen@jacksonnh.com
END:VEVENT
END:VCALENDAR