BEGIN:VCALENDAR
VERSION:2.0
PRODID:-//Jackson NH - ECPv6.15.20//NONSGML v1.0//EN
CALSCALE:GREGORIAN
METHOD:PUBLISH
X-ORIGINAL-URL:https://jacksonnh.com
X-WR-CALDESC:Events for Jackson NH
REFRESH-INTERVAL;VALUE=DURATION:PT1H
X-Robots-Tag:noindex
X-PUBLISHED-TTL:PT1H
BEGIN:VTIMEZONE
TZID:America/New_York
BEGIN:DAYLIGHT
TZOFFSETFROM:-0500
TZOFFSETTO:-0400
TZNAME:EDT
DTSTART:20230312T070000
END:DAYLIGHT
BEGIN:STANDARD
TZOFFSETFROM:-0400
TZOFFSETTO:-0500
TZNAME:EST
DTSTART:20231105T060000
END:STANDARD
BEGIN:DAYLIGHT
TZOFFSETFROM:-0500
TZOFFSETTO:-0400
TZNAME:EDT
DTSTART:20240310T070000
END:DAYLIGHT
BEGIN:STANDARD
TZOFFSETFROM:-0400
TZOFFSETTO:-0500
TZNAME:EST
DTSTART:20241103T060000
END:STANDARD
BEGIN:DAYLIGHT
TZOFFSETFROM:-0500
TZOFFSETTO:-0400
TZNAME:EDT
DTSTART:20250309T070000
END:DAYLIGHT
BEGIN:STANDARD
TZOFFSETFROM:-0400
TZOFFSETTO:-0500
TZNAME:EST
DTSTART:20251102T060000
END:STANDARD
END:VTIMEZONE
BEGIN:VEVENT
DTSTART;VALUE=DATE:20240901
DTEND;VALUE=DATE:20241101
DTSTAMP:20260424T175457
CREATED:20240830T174809Z
LAST-MODIFIED:20240830T174809Z
UID:7046-1725148800-1730419199@jacksonnh.com
SUMMARY:Where's Jackson the Pumpkin Person Mascot?
DESCRIPTION:This is our Return of the Pumpkin People Mascot… you will see him making his way around the New Hampshire area starting on September 1st\, 2024 in celebration of his 40th Birthday!  He will remain around until the Return of the Pumpkin People journey away on October 31st.  Take your photo with him and send it to 978-580-0905 along with your release for us to use the photo\, your email address and we will enter you into a drawing for an amazing ALL EVENTS Jackson Area Chamber of Commerce Package… this package has a value of more than $700.  It not only includes something from each and every event we sponsor but also some over night stays\, dining experiences\, shopping and more. \nWinner will be drawn on October 31st and the first event included for the is package is a 2024 Jingle Bell Chocolate Tour Sleigh for your family of up to 10 people (if you can not get the date you would like for the 2024 ride we will move it to 2025)… this win alone is valued at $450.  So… keep your eyes open for Jackson and start sending your photos today.  One entry per family per week.
URL:https://jacksonnh.com/event/wheres-jackson-the-pumpkin-person-mascot/
END:VEVENT
BEGIN:VEVENT
DTSTART;TZID=America/New_York:20240901T120000
DTEND;TZID=America/New_York:20241031T070000
DTSTAMP:20260424T175457
CREATED:20240830T180126Z
LAST-MODIFIED:20240830T180126Z
UID:7049-1725192000-1730358000@jacksonnh.com
SUMMARY:Find the Return of the Pumpkin People's GOLDEN Pumpkin
DESCRIPTION:Starting on September 1st there will be GOLDEN pumpkins marked with our Jackson mascot in specially selected Return of the Pumpkin People host properties.  If you happen upon one be sure to take your photo with it\, send it to 978-580-0905 or email a jpeg to kathleen@jacksonnh.com.  Include a release giving us permission to use the photo\, your return email address and phone number and you will be entered into a very special Jackson Area Vacation package valued at more than $500.  Vacation Package includes but not limited to Over night stays\, dining certificates\, a very special and unique one of a kind Jingle Bell Chocolate Tour experience that you can only find out how special it is when you board your sleigh. \nPlease note:  Return of the Pumpkin People Displays will not be out until October 1st but the 2024 Maps & Guides are already and can be found at many participating properties as well as the Jackson Area Chamber of Commerce office.  You can use these as a guide to where the GOLDEN pumpkins maybe!  The hunt for the GOLDEN Pumpkins begins on September 1st and will continue throughout September and October ending on October 31st.  The winner of the drawing will be announced at Noon on October 31st with the “Where’s Jackson” winner as well.
URL:https://jacksonnh.com/event/find-the-return-of-the-pumpkin-peoples-golden-pumpkin/
END:VEVENT
BEGIN:VEVENT
DTSTART;VALUE=DATE:20241001
DTEND;VALUE=DATE:20241101
DTSTAMP:20260424T175457
CREATED:20240831T115458Z
LAST-MODIFIED:20240831T115458Z
UID:7051-1727740800-1730419199@jacksonnh.com
SUMMARY:Return of the Pumpkin People
DESCRIPTION:We’re off to see the Pumpkin People… This is a self-guided tour of over 70 displays found throughout the area.  You will see Pumpkin People doing all kinds of things like hiking\, fishing\, dancing\, flying\, cooking and more.  You will see that these displays are worth the effort to see each and everyone of them.  This event has been delighting visitors and locals alike for forty years!  Amazing that this event just keeps on bringing thousands of visitors to our area year after year.  You have to experience it to know just how popular it is!  Our Pumpkin People have a life of their own! \nPick up a 2024 Map & Guide at any of the participating businesses\, the chamber office or request one be mailed to you by emailing info@jacksonnh.com with your address and we will be sure to get one right out to you.  You can print one off from our website by clicking on map & guide.  For details or questions not answered here just call the chamber at 978-580-0905.  Happy Findings!  Don’t forget to vote (ballot on each map/guide) for People’s Choice.  And be sure to check out the Golden Pumpkin and Where’s Jackson photo contests. \n 
URL:https://jacksonnh.com/event/return-of-the-pumpkin-people-3/
LOCATION:Jackson and the Surrounding Areas\, United States
ORGANIZER;CN="Jackson Area Chamber of Commerce":MAILTO:kathleen@jacksonnh.com
END:VEVENT
BEGIN:VEVENT
DTSTART;TZID=America/New_York:20241001T070000
DTEND;TZID=America/New_York:20241031T170000
DTSTAMP:20260424T175457
CREATED:20240411T144434Z
LAST-MODIFIED:20240411T144434Z
UID:6718-1727766000-1730394000@jacksonnh.com
SUMMARY:
DESCRIPTION:  \nWelcome to our 40th Return of the Pumpkin People Birthday Bash.  We will be celebrating with incredible activities and individual events throughout the month.  Order your Return of the Pumpkin People Map & Guide early by emailing a request anytime after August 1st. We promise this will be one of the grandest presentations of “Return of the Pumpkin People” in forty years. Check out ALL the exciting activities by checking back often throughout the coming months.  We will be posting and updating the information as it comes in.  You will not want to miss this year our 40th Anniversary Celebration! \nMaps and People Choice Award Ballots will be available by August 1st. You can request them by calling the office at 978-580-0905\, sending an email to info@jacksonnh.com or picking one up at any of the participating businesses located throughout the Conway and Jackson\, NH areas. \nLearn about “Where’s Jackson” our mascot… he will be popping up (perhaps) in a town or city near you and if you are one of the first five people to take a photo with him and send it along to us you can win fabulous prizes.  This is just one of the many fun things planned.
URL:https://jacksonnh.com/event/6718/
LOCATION:Jackson and the Surrounding Areas\, United States
ORGANIZER;CN="Jackson Area Chamber of Commerce":MAILTO:kathleen@jacksonnh.com
END:VEVENT
BEGIN:VEVENT
DTSTART;TZID=America/New_York:20241005T110000
DTEND;TZID=America/New_York:20241005T150000
DTSTAMP:20260424T175457
CREATED:20240822T180336Z
LAST-MODIFIED:20240822T180336Z
UID:6974-1728126000-1728140400@jacksonnh.com
SUMMARY:All Things Pumpkin Sleigh Ride/Tour
DESCRIPTION:Horse-drawn Sleigh Ride traveling through Jackson Village.  Upon checking in at the Nestlenook Gazebo you will receive a special Pumpkin surprise.  You will board your sleigh and be whisked away journeying the quaint village of Jackson and passing by 12 or more Return of the Pumpkin People Displays.  Bring your camera as you will want to take photos… we are celebrating our 40th Birthday Bash of the Return of the Pumpkin People and we can assure you they WILL be something to see and capture with a photo.   \nUpon returning to Nestlenook you may wish to check out all the amazing things happening right there… “Trail of Terror” will be open and you can also purchase s’mores to do at one of the many firepits throughout their property.  Nestlenook is always a fabulous place to be! \n 
URL:https://jacksonnh.com/event/all-things-pumpkin-sleigh-ride-tour/
LOCATION:Nestlenook Farm\, NH\, United States
ORGANIZER;CN="Jackson Area Chamber of Commerce":MAILTO:kathleen@jacksonnh.com
END:VEVENT
BEGIN:VEVENT
DTSTART;TZID=America/New_York:20241012T110000
DTEND;TZID=America/New_York:20241012T150000
DTSTAMP:20260424T175457
CREATED:20240822T180510Z
LAST-MODIFIED:20240822T180510Z
UID:6976-1728730800-1728745200@jacksonnh.com
SUMMARY:All Things Pumpkin Sleigh Ride/Tour
DESCRIPTION:Horse-drawn Sleigh Ride traveling through Jackson Village.  Upon checking in at the Nestlenook Gazebo you will receive a special Pumpkin surprise.  You will board your sleigh and be whisked away journeying the quaint village of Jackson and passing by 12 or more Return of the Pumpkin People Displays.  Bring your camera as you will want to take photos… we are celebrating our 40th Birthday Bash of the Return of the Pumpkin People and we can assure you they WILL be something to see and capture with a photo.   \nUpon returning to Nestlenook you may wish to check out all the amazing things happening right there… “Trail of Terror” will be open and you can also purchase s’mores to do at one of the many firepits throughout their property.  Nestlenook is always a fabulous place to be!
URL:https://jacksonnh.com/event/all-things-pumpkin-sleigh-ride-tour-2/
LOCATION:Nestlenook Farm\, NH\, United States
ORGANIZER;CN="Jackson Area Chamber of Commerce":MAILTO:kathleen@jacksonnh.com
END:VEVENT
BEGIN:VEVENT
DTSTART;TZID=America/New_York:20241019T110000
DTEND;TZID=America/New_York:20241019T150000
DTSTAMP:20260424T175457
CREATED:20240822T180730Z
LAST-MODIFIED:20240822T180730Z
UID:6980-1729335600-1729350000@jacksonnh.com
SUMMARY:All Things Pumpkin Sleigh Ride/Tour
DESCRIPTION:Horse-drawn Sleigh Ride traveling through Jackson Village.  Upon checking in at the Nestlenook Gazebo you will receive a special Pumpkin surprise.  You will board your sleigh and be whisked away journeying the quaint village of Jackson and passing by 12 or more Return of the Pumpkin People Displays.  Bring your camera as you will want to take photos… we are celebrating our 40th Birthday Bash of the Return of the Pumpkin People and we can assure you they WILL be something to see and capture with a photo.   \nUpon returning to Nestlenook you may wish to check out all the amazing things happening right there… “Trail of Terror” will be open and you can also purchase s’mores to do at one of the many firepits throughout their property.  Nestlenook is always a fabulous place to be!
URL:https://jacksonnh.com/event/all-things-pumpkin-sleigh-ride-tour-4/
LOCATION:Nestlenook Farm\, NH\, United States
ORGANIZER;CN="Jackson Area Chamber of Commerce":MAILTO:kathleen@jacksonnh.com
END:VEVENT
END:VCALENDAR