BEGIN:VCALENDAR
VERSION:2.0
PRODID:-//Jackson NH - ECPv6.15.20//NONSGML v1.0//EN
CALSCALE:GREGORIAN
METHOD:PUBLISH
X-WR-CALNAME:Jackson NH
X-ORIGINAL-URL:https://jacksonnh.com
X-WR-CALDESC:Events for Jackson NH
REFRESH-INTERVAL;VALUE=DURATION:PT1H
X-Robots-Tag:noindex
X-PUBLISHED-TTL:PT1H
BEGIN:VTIMEZONE
TZID:America/New_York
BEGIN:DAYLIGHT
TZOFFSETFROM:-0500
TZOFFSETTO:-0400
TZNAME:EDT
DTSTART:20210314T070000
END:DAYLIGHT
BEGIN:STANDARD
TZOFFSETFROM:-0400
TZOFFSETTO:-0500
TZNAME:EST
DTSTART:20211107T060000
END:STANDARD
BEGIN:DAYLIGHT
TZOFFSETFROM:-0500
TZOFFSETTO:-0400
TZNAME:EDT
DTSTART:20220313T070000
END:DAYLIGHT
BEGIN:STANDARD
TZOFFSETFROM:-0400
TZOFFSETTO:-0500
TZNAME:EST
DTSTART:20221106T060000
END:STANDARD
BEGIN:DAYLIGHT
TZOFFSETFROM:-0500
TZOFFSETTO:-0400
TZNAME:EDT
DTSTART:20230312T070000
END:DAYLIGHT
BEGIN:STANDARD
TZOFFSETFROM:-0400
TZOFFSETTO:-0500
TZNAME:EST
DTSTART:20231105T060000
END:STANDARD
BEGIN:DAYLIGHT
TZOFFSETFROM:-0500
TZOFFSETTO:-0400
TZNAME:EDT
DTSTART:20240310T070000
END:DAYLIGHT
BEGIN:STANDARD
TZOFFSETFROM:-0400
TZOFFSETTO:-0500
TZNAME:EST
DTSTART:20241103T060000
END:STANDARD
END:VTIMEZONE
BEGIN:VEVENT
DTSTART;TZID=America/New_York:20221024T080000
DTEND;TZID=America/New_York:20230101T170000
DTSTAMP:20260422T061128
CREATED:20221024T140410Z
LAST-MODIFIED:20231113T214740Z
UID:5804-1666598400-1672592400@jacksonnh.com
SUMMARY:Jackson's Jingle Bell Jackpot
DESCRIPTION:  \nThe fundraising raffle winner takes home 50% of ticket sales up to $1\,000.  Each specially selected Jingle Bell has a one-of-a-kind number inside it.  Just purchase the bells for $5 each and then go to our Jingle Bell Jackpot registration page where you will be easily instructed to register your one-of-a-kind bell number.  If you do not register your bell/s you are not entered into the drawing. Bells are also sold at local participating businesses and on the Jingle Bells purchase page. \n10% of all ticket money will go directly to Jen’s Friends Cancer Foundation our local non-profit of choice.  “In the fight against cancer\, you can never have too many friends” \nWinners will be drawn live at the Snowflake Inn located on Main Street in Jackson Village with light refreshments and surprises.  The first 20 tickets drawn will win prizes ranging from overnight stays\, dinner certificates\, sleigh rides\, gifts and much more.  The final and last ticket drawn will walk away with 50% of all money raised up to $1\,000. \nGet your Jingle Bell Jackpot Bells today at The Snowflake Inn\, J-Town Deli & Country Store\, the Inn at Thorn Hill & Spa\, and the Chamber office.  This list will be updated as we get more into the event.
URL:https://jacksonnh.com/event/jacksons-jingle-bell-jackpot/
LOCATION:Jackson Area of New Hampshire
CATEGORIES:Annual Event
ATTACH;FMTTYPE=image/jpeg:https://jacksonnh.com/wp-content/uploads/2021/10/Jingle-Logo.jpg
ORGANIZER;CN="Jackson Area Chamber of Commerce":MAILTO:kathleen@jacksonnh.com
END:VEVENT
END:VCALENDAR