BEGIN:VCALENDAR
VERSION:2.0
PRODID:-//Jackson NH - ECPv6.15.20//NONSGML v1.0//EN
CALSCALE:GREGORIAN
METHOD:PUBLISH
X-WR-CALNAME:Jackson NH
X-ORIGINAL-URL:https://jacksonnh.com
X-WR-CALDESC:Events for Jackson NH
REFRESH-INTERVAL;VALUE=DURATION:PT1H
X-Robots-Tag:noindex
X-PUBLISHED-TTL:PT1H
BEGIN:VTIMEZONE
TZID:America/New_York
BEGIN:DAYLIGHT
TZOFFSETFROM:-0500
TZOFFSETTO:-0400
TZNAME:EDT
DTSTART:20250309T070000
END:DAYLIGHT
BEGIN:STANDARD
TZOFFSETFROM:-0400
TZOFFSETTO:-0500
TZNAME:EST
DTSTART:20251102T060000
END:STANDARD
BEGIN:DAYLIGHT
TZOFFSETFROM:-0500
TZOFFSETTO:-0400
TZNAME:EDT
DTSTART:20260308T070000
END:DAYLIGHT
BEGIN:STANDARD
TZOFFSETFROM:-0400
TZOFFSETTO:-0500
TZNAME:EST
DTSTART:20261101T060000
END:STANDARD
BEGIN:DAYLIGHT
TZOFFSETFROM:-0500
TZOFFSETTO:-0400
TZNAME:EDT
DTSTART:20270314T070000
END:DAYLIGHT
BEGIN:STANDARD
TZOFFSETFROM:-0400
TZOFFSETTO:-0500
TZNAME:EST
DTSTART:20271107T060000
END:STANDARD
END:VTIMEZONE
BEGIN:VEVENT
DTSTART;TZID=America/New_York:20260422T180000
DTEND;TZID=America/New_York:20260422T210000
DTSTAMP:20260422T073536
CREATED:20260402T153127Z
LAST-MODIFIED:20260402T153327Z
UID:8048-1776880800-1776891600@jacksonnh.com
SUMMARY:Earth Day Party (Special Ticketed Event  -  All ages Welcome!)
DESCRIPTION:🌎🐠 Join us for our first-ever Earth Day Party! Celebrate our planet with a fun-filled evening featuring interactive exhibits\, hands-on activities\, and opportunities to learn about protecting the world around us. Explore the aquarium after hours and enjoy a night of education\, conservation\, and family-friendly fun.\n✨ Evening Highlights:\n\nInteractive activities and crafts\, including a “Trash to Treasure” craft station\nPlanet Protector Passport challenge & conservation pledge opportunity\nEducational resources from NH Fish & Game & more\nFeed stingrays or tortoises for an additional $5\n\nAquatic-themed mocktails & cocktails\n\n\nThe Bistro will be open for food and drinks\, featuring soups\, salads\, sandwiches\, and more\, along with beer\, wine\, seltzers\, and non-alcoholic beverages. For more information and to purchase tickets\, visit: livingshores.com/discover-the-aquarium/events/earth-day-party
URL:https://jacksonnh.com/event/earth-day-party-special-ticketed-event-all-ages-welcome/
LOCATION:Living Shores Aquarium\, 850 NH Route 16\, Glen\, 03838\, United States
END:VEVENT
END:VCALENDAR